Package: EpiCompare Version: 1.11.3 Command: /home/biocbuild/bbs-3.21-bioc/R/bin/R CMD check --install=check:EpiCompare.install-out.txt --library=/home/biocbuild/bbs-3.21-bioc/R/site-library --timings EpiCompare_1.11.3.tar.gz StartedAt: 2025-02-17 21:51:37 -0500 (Mon, 17 Feb 2025) EndedAt: 2025-02-17 22:04:55 -0500 (Mon, 17 Feb 2025) EllapsedTime: 798.0 seconds RetCode: 0 Status: OK CheckDir: EpiCompare.Rcheck Warnings: 0