Package: EpiCompare Version: 1.11.3 Command: /Library/Frameworks/R.framework/Resources/bin/R CMD INSTALL EpiCompare StartedAt: 2025-02-17 15:20:40 -0500 (Mon, 17 Feb 2025) EndedAt: 2025-02-17 15:20:58 -0500 (Mon, 17 Feb 2025) EllapsedTime: 18.8 seconds RetCode: 0 Status: OK