Package: EpiCompare Version: 1.11.3 Command: /Library/Frameworks/R.framework/Resources/bin/R CMD check --install=check:EpiCompare.install-out.txt --library=/Library/Frameworks/R.framework/Resources/library --no-vignettes --timings EpiCompare_1.11.3.tar.gz StartedAt: 2025-02-17 19:08:09 -0500 (Mon, 17 Feb 2025) EndedAt: 2025-02-17 19:13:12 -0500 (Mon, 17 Feb 2025) EllapsedTime: 303.5 seconds RetCode: 0 Status: OK CheckDir: EpiCompare.Rcheck Warnings: 0