Package: EpiCompare Version: 1.11.3 Command: /Library/Frameworks/R.framework/Resources/bin/R CMD build --keep-empty-dirs --no-resave-data EpiCompare StartedAt: 2025-02-17 16:14:38 -0500 (Mon, 17 Feb 2025) EndedAt: 2025-02-17 16:15:06 -0500 (Mon, 17 Feb 2025) EllapsedTime: 28.3 seconds RetCode: 0 Status: OK PackageFile: EpiCompare_1.11.3.tar.gz PackageFileSize: 1.872 MiB