Package: EpiCompare Version: 1.11.2 Maintainer: Hiranyamaya Dash MaintainerEmail: hdash.work at gmail.com git_url: https://git.bioconductor.org/packages/EpiCompare git_branch: devel git_last_commit: f8fbe9f git_last_commit_date: 2025-02-12 08:39:45 -0500 (Wed, 12 Feb 2025)