Package: EnrichedHeatmap Version: 1.37.0 Command: E:\biocbuild\bbs-3.21-bioc\R\bin\R.exe CMD check --no-multiarch --install=check:EnrichedHeatmap.install-out.txt --library=E:\biocbuild\bbs-3.21-bioc\R\library --no-vignettes --timings EnrichedHeatmap_1.37.0.tar.gz StartedAt: 2025-02-21 01:02:04 -0500 (Fri, 21 Feb 2025) EndedAt: 2025-02-21 01:04:40 -0500 (Fri, 21 Feb 2025) EllapsedTime: 155.8 seconds RetCode: 0 Status: OK CheckDir: EnrichedHeatmap.Rcheck Warnings: 0