Package: EnrichedHeatmap Version: 1.37.0 Command: chmod a+r EnrichedHeatmap -R && E:\biocbuild\bbs-3.21-bioc\R\bin\R.exe CMD build --keep-empty-dirs --no-resave-data EnrichedHeatmap StartedAt: 2025-02-20 18:34:54 -0500 (Thu, 20 Feb 2025) EndedAt: 2025-02-20 18:42:02 -0500 (Thu, 20 Feb 2025) EllapsedTime: 428.5 seconds RetCode: 0 Status: OK PackageFile: EnrichedHeatmap_1.37.0.tar.gz PackageFileSize: 9.815 MiB