Package: EnrichedHeatmap Version: 1.37.0 Command: rm -rf EnrichedHeatmap.buildbin-libdir && mkdir EnrichedHeatmap.buildbin-libdir && E:\biocbuild\bbs-3.21-bioc\R\bin\R.exe CMD INSTALL --build --library=EnrichedHeatmap.buildbin-libdir EnrichedHeatmap_1.37.0.tar.gz StartedAt: 2025-02-21 08:02:44 -0500 (Fri, 21 Feb 2025) EndedAt: 2025-02-21 08:03:40 -0500 (Fri, 21 Feb 2025) EllapsedTime: 55.6 seconds RetCode: 0 Status: OK PackageFile: EnrichedHeatmap_1.37.0.zip PackageFileSize: 8.953 MiB