Package: EnrichedHeatmap Version: 1.37.0 Command: /Library/Frameworks/R.framework/Resources/bin/R CMD check --install=check:EnrichedHeatmap.install-out.txt --library=/Library/Frameworks/R.framework/Resources/library --no-vignettes --timings EnrichedHeatmap_1.37.0.tar.gz StartedAt: 2025-02-20 19:08:04 -0500 (Thu, 20 Feb 2025) EndedAt: 2025-02-20 19:08:50 -0500 (Thu, 20 Feb 2025) EllapsedTime: 45.5 seconds RetCode: 0 Status: OK CheckDir: EnrichedHeatmap.Rcheck Warnings: 0