Package: EnrichedHeatmap Version: 1.37.0 Command: /Library/Frameworks/R.framework/Resources/bin/R CMD build --keep-empty-dirs --no-resave-data EnrichedHeatmap StartedAt: 2025-02-20 16:15:15 -0500 (Thu, 20 Feb 2025) EndedAt: 2025-02-20 16:17:25 -0500 (Thu, 20 Feb 2025) EllapsedTime: 130.3 seconds RetCode: 0 Status: OK PackageFile: EnrichedHeatmap_1.37.0.tar.gz PackageFileSize: 13.16 MiB