Package: EnrichedHeatmap Version: 1.37.0 Command: rm -rf EnrichedHeatmap.buildbin-libdir && mkdir EnrichedHeatmap.buildbin-libdir && /Users/biocbuild/BBS/utils/build-universal.sh EnrichedHeatmap_1.37.0.tar.gz /Library/Frameworks/R.framework/Resources/bin/R EnrichedHeatmap.buildbin-libdir StartedAt: 2025-02-20 22:17:51 -0500 (Thu, 20 Feb 2025) EndedAt: 2025-02-20 22:18:01 -0500 (Thu, 20 Feb 2025) EllapsedTime: 9.2 seconds RetCode: 0 Status: OK PackageFile: EnrichedHeatmap_1.37.0.tgz PackageFileSize: 12 MiB