Package: EnrichDO Version: 1.1.1 Command: /home/biocbuild/R/R/bin/R CMD check --install=check:EnrichDO.install-out.txt --library=/home/biocbuild/R/R/site-library --no-vignettes --timings EnrichDO_1.1.1.tar.gz StartedAt: 2025-01-28 10:16:20 -0000 (Tue, 28 Jan 2025) EndedAt: 2025-01-28 10:25:10 -0000 (Tue, 28 Jan 2025) EllapsedTime: 529.6 seconds RetCode: 0 Status: OK CheckDir: EnrichDO.Rcheck Warnings: 0