Package: EnhancedVolcano Version: 1.25.0 Command: /home/biocbuild/bbs-3.21-bioc/R/bin/R CMD INSTALL EnhancedVolcano StartedAt: 2025-02-19 15:08:20 -0500 (Wed, 19 Feb 2025) EndedAt: 2025-02-19 15:08:31 -0500 (Wed, 19 Feb 2025) EllapsedTime: 10.5 seconds RetCode: 0 Status: OK