Package: EnMCB Version: 1.19.0 Command: /home/biocbuild/bbs-3.21-bioc/R/bin/R CMD build --keep-empty-dirs --no-resave-data EnMCB StartedAt: 2025-02-20 17:21:16 -0500 (Thu, 20 Feb 2025) EndedAt: 2025-02-20 17:21:53 -0500 (Thu, 20 Feb 2025) EllapsedTime: 37.0 seconds RetCode: 0 Status: OK PackageFile: EnMCB_1.19.0.tar.gz PackageFileSize: 4.929 MiB