Package: EnMCB Version: 1.19.0 Command: /Library/Frameworks/R.framework/Resources/bin/R CMD check --install=check:EnMCB.install-out.txt --library=/Library/Frameworks/R.framework/Resources/library --no-vignettes --timings EnMCB_1.19.0.tar.gz StartedAt: 2025-02-20 20:14:35 -0500 (Thu, 20 Feb 2025) EndedAt: 2025-02-20 20:17:30 -0500 (Thu, 20 Feb 2025) EllapsedTime: 174.5 seconds RetCode: 0 Status: OK CheckDir: EnMCB.Rcheck Warnings: 0