Package: EnMCB Version: 1.19.0 Command: /Library/Frameworks/R.framework/Resources/bin/R CMD check --install=check:EnMCB.install-out.txt --library=/Library/Frameworks/R.framework/Resources/library --no-vignettes --timings EnMCB_1.19.0.tar.gz StartedAt: 2025-02-20 19:07:50 -0500 (Thu, 20 Feb 2025) EndedAt: 2025-02-20 19:08:55 -0500 (Thu, 20 Feb 2025) EllapsedTime: 64.8 seconds RetCode: 0 Status: OK CheckDir: EnMCB.Rcheck Warnings: 0