Package: EmpiricalBrownsMethod Version: 1.35.0 Command: E:\biocbuild\bbs-3.21-bioc\R\bin\R.exe CMD INSTALL EmpiricalBrownsMethod StartedAt: 2025-02-19 15:19:15 -0500 (Wed, 19 Feb 2025) EndedAt: 2025-02-19 15:19:49 -0500 (Wed, 19 Feb 2025) EllapsedTime: 34.3 seconds RetCode: 0 Status: OK