Package: EmpiricalBrownsMethod Version: 1.35.0 Command: /home/biocbuild/bbs-3.21-bioc/R/bin/R CMD check --install=check:EmpiricalBrownsMethod.install-out.txt --library=/home/biocbuild/bbs-3.21-bioc/R/site-library --timings EmpiricalBrownsMethod_1.35.0.tar.gz StartedAt: 2025-02-19 21:56:48 -0500 (Wed, 19 Feb 2025) EndedAt: 2025-02-19 21:57:04 -0500 (Wed, 19 Feb 2025) EllapsedTime: 16.0 seconds RetCode: 0 Status: OK CheckDir: EmpiricalBrownsMethod.Rcheck Warnings: 0