Package: EWCE Version: 1.15.1 Command: E:\biocbuild\bbs-3.21-bioc\R\bin\R.exe CMD INSTALL EWCE StartedAt: 2025-02-19 17:00:16 -0500 (Wed, 19 Feb 2025) EndedAt: 2025-02-19 17:01:20 -0500 (Wed, 19 Feb 2025) EllapsedTime: 64.4 seconds RetCode: 0 Status: OK