Package: EWCE Version: 1.15.1 Command: chmod a+r EWCE -R && E:\biocbuild\bbs-3.21-bioc\R\bin\R.exe CMD build --keep-empty-dirs --no-resave-data EWCE StartedAt: 2025-02-19 18:40:12 -0500 (Wed, 19 Feb 2025) EndedAt: 2025-02-19 18:45:03 -0500 (Wed, 19 Feb 2025) EllapsedTime: 290.9 seconds RetCode: 0 Status: OK PackageFile: EWCE_1.15.1.tar.gz PackageFileSize: 1.798 MiB