Package: EWCE Version: 1.15.1 Command: rm -rf EWCE.buildbin-libdir && mkdir EWCE.buildbin-libdir && E:\biocbuild\bbs-3.21-bioc\R\bin\R.exe CMD INSTALL --build --library=EWCE.buildbin-libdir EWCE_1.15.1.tar.gz StartedAt: 2025-02-20 07:46:27 -0500 (Thu, 20 Feb 2025) EndedAt: 2025-02-20 07:47:41 -0500 (Thu, 20 Feb 2025) EllapsedTime: 73.9 seconds RetCode: 0 Status: OK PackageFile: EWCE_1.15.1.zip PackageFileSize: 2.135 MiB