Package: EWCE Version: 1.15.1 Command: rm -rf EWCE.buildbin-libdir && mkdir EWCE.buildbin-libdir && /Users/biocbuild/BBS/utils/build-universal.sh EWCE_1.15.1.tar.gz /Library/Frameworks/R.framework/Resources/bin/R EWCE.buildbin-libdir StartedAt: 2025-02-20 00:31:33 -0500 (Thu, 20 Feb 2025) EndedAt: 2025-02-20 00:32:25 -0500 (Thu, 20 Feb 2025) EllapsedTime: 52.0 seconds RetCode: 0 Status: OK PackageFile: EWCE_1.15.1.tgz PackageFileSize: 2.873 MiB