Package: EWCE Version: 1.15.1 Command: /Library/Frameworks/R.framework/Resources/bin/R CMD check --install=check:EWCE.install-out.txt --library=/Library/Frameworks/R.framework/Resources/library --no-vignettes --timings EWCE_1.15.1.tar.gz StartedAt: 2025-02-19 19:15:38 -0500 (Wed, 19 Feb 2025) EndedAt: 2025-02-19 19:23:23 -0500 (Wed, 19 Feb 2025) EllapsedTime: 464.9 seconds RetCode: 0 Status: OK CheckDir: EWCE.Rcheck Warnings: 0