Package: EWCE Version: 1.15.1 Command: /Library/Frameworks/R.framework/Resources/bin/R CMD build --keep-empty-dirs --no-resave-data EWCE StartedAt: 2025-02-19 16:19:09 -0500 (Wed, 19 Feb 2025) EndedAt: 2025-02-19 16:21:10 -0500 (Wed, 19 Feb 2025) EllapsedTime: 120.3 seconds RetCode: 0 Status: OK PackageFile: EWCE_1.15.1.tar.gz PackageFileSize: 2.543 MiB