Package: ERSSA Version: 1.25.0 Command: rm -rf ERSSA.buildbin-libdir && mkdir ERSSA.buildbin-libdir && /Users/biocbuild/BBS/utils/build-universal.sh ERSSA_1.25.0.tar.gz /Library/Frameworks/R.framework/Resources/bin/R ERSSA.buildbin-libdir StartedAt: 2025-02-20 22:18:23 -0500 (Thu, 20 Feb 2025) EndedAt: 2025-02-20 22:18:35 -0500 (Thu, 20 Feb 2025) EllapsedTime: 12.2 seconds RetCode: 0 Status: OK PackageFile: ERSSA_1.25.0.tgz PackageFileSize: 2.427 MiB