Package: ENmix Version: 1.43.2 Command: E:\biocbuild\bbs-3.21-bioc\R\bin\R.exe CMD INSTALL ENmix StartedAt: 2025-02-20 16:54:53 -0500 (Thu, 20 Feb 2025) EndedAt: 2025-02-20 16:56:16 -0500 (Thu, 20 Feb 2025) EllapsedTime: 83.1 seconds RetCode: 0 Status: OK