Package: ENmix Version: 1.43.2 Command: chmod a+r ENmix -R && E:\biocbuild\bbs-3.21-bioc\R\bin\R.exe CMD build --keep-empty-dirs --no-resave-data ENmix StartedAt: 2025-02-20 18:34:40 -0500 (Thu, 20 Feb 2025) EndedAt: 2025-02-20 18:36:00 -0500 (Thu, 20 Feb 2025) EllapsedTime: 80.5 seconds RetCode: 0 Status: OK PackageFile: ENmix_1.43.2.tar.gz PackageFileSize: 20.02 MiB