Package: ENmix Version: 1.43.2 Command: rm -rf ENmix.buildbin-libdir && mkdir ENmix.buildbin-libdir && E:\biocbuild\bbs-3.21-bioc\R\bin\R.exe CMD INSTALL --build --library=ENmix.buildbin-libdir ENmix_1.43.2.tar.gz StartedAt: 2025-02-21 08:02:29 -0500 (Fri, 21 Feb 2025) EndedAt: 2025-02-21 08:03:48 -0500 (Fri, 21 Feb 2025) EllapsedTime: 79.7 seconds RetCode: 0 Status: OK PackageFile: ENmix_1.43.2.zip PackageFileSize: 19.7 MiB