Package: ENmix Version: 1.43.2 Command: /home/biocbuild/bbs-3.21-bioc/R/bin/R CMD INSTALL ENmix StartedAt: 2025-02-19 15:41:47 -0500 (Wed, 19 Feb 2025) EndedAt: 2025-02-19 15:42:39 -0500 (Wed, 19 Feb 2025) EllapsedTime: 52.0 seconds RetCode: 0 Status: OK