Package: ENmix Version: 1.43.2 Command: /Library/Frameworks/R.framework/Resources/bin/R CMD INSTALL ENmix StartedAt: 2025-02-19 15:41:54 -0500 (Wed, 19 Feb 2025) EndedAt: 2025-02-19 15:43:04 -0500 (Wed, 19 Feb 2025) EllapsedTime: 69.8 seconds RetCode: 0 Status: OK