Package: EMDomics Version: 2.37.0 Command: chmod a+r EMDomics -R && E:\biocbuild\bbs-3.21-bioc\R\bin\R.exe CMD build --keep-empty-dirs --no-resave-data EMDomics StartedAt: 2025-02-20 18:34:14 -0500 (Thu, 20 Feb 2025) EndedAt: 2025-02-20 18:34:35 -0500 (Thu, 20 Feb 2025) EllapsedTime: 21.6 seconds RetCode: 0 Status: OK PackageFile: EMDomics_2.37.0.tar.gz PackageFileSize: 86.21 KiB