Package: ELMER Version: 2.31.0 Command: rm -rf ELMER.buildbin-libdir && mkdir ELMER.buildbin-libdir && E:\biocbuild\bbs-3.21-bioc\R\bin\R.exe CMD INSTALL --build --library=ELMER.buildbin-libdir ELMER_2.31.0.tar.gz StartedAt: 2025-02-21 08:01:45 -0500 (Fri, 21 Feb 2025) EndedAt: 2025-02-21 08:03:35 -0500 (Fri, 21 Feb 2025) EllapsedTime: 110.4 seconds RetCode: 0 Status: OK PackageFile: ELMER_2.31.0.zip PackageFileSize: 40.34 MiB