Package: ELMER Version: 2.31.0 Command: /home/biocbuild/bbs-3.21-bioc/R/bin/R CMD build --keep-empty-dirs --no-resave-data ELMER StartedAt: 2025-02-20 17:21:05 -0500 (Thu, 20 Feb 2025) EndedAt: 2025-02-20 17:27:34 -0500 (Thu, 20 Feb 2025) EllapsedTime: 388.7 seconds RetCode: 0 Status: OK PackageFile: ELMER_2.31.0.tar.gz PackageFileSize: 43.57 MiB