Package: EGSEA Version: 1.35.0 Command: rm -rf EGSEA.buildbin-libdir && mkdir EGSEA.buildbin-libdir && /Users/biocbuild/BBS/utils/build-universal.sh EGSEA_1.35.0.tar.gz /Library/Frameworks/R.framework/Resources/bin/R EGSEA.buildbin-libdir StartedAt: 2025-02-20 00:30:35 -0500 (Thu, 20 Feb 2025) EndedAt: 2025-02-20 00:31:52 -0500 (Thu, 20 Feb 2025) EllapsedTime: 77.2 seconds RetCode: 0 Status: OK PackageFile: EGSEA_1.35.0.tgz PackageFileSize: 2.44 MiB