Package: EGSEA Version: 1.35.0 Command: /Library/Frameworks/R.framework/Resources/bin/R CMD check --install=check:EGSEA.install-out.txt --library=/Library/Frameworks/R.framework/Resources/library --no-vignettes --timings EGSEA_1.35.0.tar.gz StartedAt: 2025-02-19 19:08:41 -0500 (Wed, 19 Feb 2025) EndedAt: 2025-02-19 19:12:03 -0500 (Wed, 19 Feb 2025) EllapsedTime: 201.3 seconds RetCode: 0 Status: OK CheckDir: EGSEA.Rcheck Warnings: 0