Package: EGSEA Version: 1.35.0 Command: /Library/Frameworks/R.framework/Resources/bin/R CMD build --keep-empty-dirs --no-resave-data EGSEA StartedAt: 2025-02-19 16:14:35 -0500 (Wed, 19 Feb 2025) EndedAt: 2025-02-19 16:16:26 -0500 (Wed, 19 Feb 2025) EllapsedTime: 111.2 seconds RetCode: 0 Status: OK PackageFile: EGSEA_1.35.0.tar.gz PackageFileSize: 2.088 MiB