Package: EDIRquery Version: 1.7.0 Command: /Library/Frameworks/R.framework/Resources/bin/R CMD check --install=check:EDIRquery.install-out.txt --library=/Library/Frameworks/R.framework/Resources/library --no-vignettes --timings EDIRquery_1.7.0.tar.gz StartedAt: 2025-02-19 20:13:17 -0500 (Wed, 19 Feb 2025) EndedAt: 2025-02-19 20:16:33 -0500 (Wed, 19 Feb 2025) EllapsedTime: 196.3 seconds RetCode: 0 Status: OK CheckDir: EDIRquery.Rcheck Warnings: 0