Package: EDASeq Version: 2.41.0 Command: /Library/Frameworks/R.framework/Resources/bin/R CMD INSTALL EDASeq StartedAt: 2025-02-19 15:24:05 -0500 (Wed, 19 Feb 2025) EndedAt: 2025-02-19 15:25:01 -0500 (Wed, 19 Feb 2025) EllapsedTime: 56.4 seconds RetCode: 0 Status: OK