Package: EDASeq Version: 2.41.0 Command: /Library/Frameworks/R.framework/Resources/bin/R CMD build --keep-empty-dirs --no-resave-data EDASeq StartedAt: 2025-02-19 16:35:22 -0500 (Wed, 19 Feb 2025) EndedAt: 2025-02-19 16:36:38 -0500 (Wed, 19 Feb 2025) EllapsedTime: 76.6 seconds RetCode: 0 Status: OK PackageFile: EDASeq_2.41.0.tar.gz PackageFileSize: 1.085 MiB