Package: EBcoexpress Version: 1.51.0 Command: /Library/Frameworks/R.framework/Resources/bin/R CMD build --keep-empty-dirs --no-resave-data EBcoexpress StartedAt: 2025-02-20 16:34:33 -0500 (Thu, 20 Feb 2025) EndedAt: 2025-02-20 16:35:06 -0500 (Thu, 20 Feb 2025) EllapsedTime: 33.1 seconds RetCode: 0 Status: OK PackageFile: EBcoexpress_1.51.0.tar.gz PackageFileSize: 2.665 MiB