Package: EBcoexpress Version: 1.51.0 Command: rm -rf EBcoexpress.buildbin-libdir && mkdir EBcoexpress.buildbin-libdir && /Users/biocbuild/BBS/utils/build-universal.sh EBcoexpress_1.51.0.tar.gz /Library/Frameworks/R.framework/Resources/bin/R EBcoexpress.buildbin-libdir StartedAt: 2025-02-21 00:29:07 -0500 (Fri, 21 Feb 2025) EndedAt: 2025-02-21 00:29:18 -0500 (Fri, 21 Feb 2025) EllapsedTime: 11.6 seconds RetCode: 0 Status: OK PackageFile: EBcoexpress_1.51.0.tgz PackageFileSize: 2.749 MiB