Package: EBarrays Version: 2.71.0 Command: /home/biocbuild/bbs-3.21-bioc/R/bin/R CMD build --keep-empty-dirs --no-resave-data EBarrays StartedAt: 2025-02-21 17:40:56 -0500 (Fri, 21 Feb 2025) EndedAt: 2025-02-21 17:41:13 -0500 (Fri, 21 Feb 2025) EllapsedTime: 17.0 seconds RetCode: 0 Status: OK PackageFile: EBarrays_2.71.0.tar.gz PackageFileSize: 1.039 MiB