Package: EBarrays Version: 2.72.0 Command: /Library/Frameworks/R.framework/Resources/bin/R CMD INSTALL EBarrays StartedAt: 2025-10-09 15:19:53 -0400 (Thu, 09 Oct 2025) EndedAt: 2025-10-09 15:20:07 -0400 (Thu, 09 Oct 2025) EllapsedTime: 13.7 seconds RetCode: 0 Status: OK