Package: EBarrays Version: 2.72.0 Command: rm -rf EBarrays.buildbin-libdir && mkdir EBarrays.buildbin-libdir && /Users/biocbuild/BBS/utils/build-universal.sh EBarrays_2.72.0.tar.gz /Library/Frameworks/R.framework/Resources/bin/R EBarrays.buildbin-libdir StartedAt: 2025-10-10 13:21:31 -0400 (Fri, 10 Oct 2025) EndedAt: 2025-10-10 13:21:51 -0400 (Fri, 10 Oct 2025) EllapsedTime: 19.7 seconds RetCode: 0 Status: OK PackageFile: EBarrays_2.72.0.tgz PackageFileSize: 1.268 MiB