Package: EBarrays Version: 2.71.0 Command: /Library/Frameworks/R.framework/Resources/bin/R CMD INSTALL EBarrays StartedAt: 2025-02-20 15:04:41 -0500 (Thu, 20 Feb 2025) EndedAt: 2025-02-20 15:04:53 -0500 (Thu, 20 Feb 2025) EllapsedTime: 11.5 seconds RetCode: 0 Status: OK