Package: EBarrays Version: 2.71.0 Command: /Library/Frameworks/R.framework/Resources/bin/R CMD INSTALL EBarrays StartedAt: 2025-02-20 15:01:21 -0500 (Thu, 20 Feb 2025) EndedAt: 2025-02-20 15:01:23 -0500 (Thu, 20 Feb 2025) EllapsedTime: 2.4 seconds RetCode: 0 Status: OK