Package: EBarrays Version: 2.71.0 Command: /Library/Frameworks/R.framework/Resources/bin/R CMD check --install=check:EBarrays.install-out.txt --library=/Library/Frameworks/R.framework/Resources/library --no-vignettes --timings EBarrays_2.71.0.tar.gz StartedAt: 2025-02-20 19:06:05 -0500 (Thu, 20 Feb 2025) EndedAt: 2025-02-20 19:06:24 -0500 (Thu, 20 Feb 2025) EllapsedTime: 19.2 seconds RetCode: 0 Status: OK CheckDir: EBarrays.Rcheck Warnings: 0