Package: EBarrays Version: 2.71.0 Command: /Library/Frameworks/R.framework/Resources/bin/R CMD build --keep-empty-dirs --no-resave-data EBarrays StartedAt: 2025-02-20 16:13:30 -0500 (Thu, 20 Feb 2025) EndedAt: 2025-02-20 16:13:39 -0500 (Thu, 20 Feb 2025) EllapsedTime: 9.1 seconds RetCode: 0 Status: OK PackageFile: EBarrays_2.71.0.tar.gz PackageFileSize: 1.04 MiB