Package: EBarrays Version: 2.72.0 Command: /Library/Frameworks/R.framework/Resources/bin/R CMD build --keep-empty-dirs --no-resave-data EBarrays StartedAt: 2025-09-25 23:39:05 -0400 (Thu, 25 Sep 2025) EndedAt: 2025-09-25 23:39:31 -0400 (Thu, 25 Sep 2025) EllapsedTime: 26.2 seconds RetCode: 0 Status: OK PackageFile: EBarrays_2.72.0.tar.gz PackageFileSize: 1.039 MiB