Package: EBSeq Version: 2.5.2 Command: /home/biocbuild/bbs-3.21-bioc/R/bin/R CMD INSTALL EBSeq StartedAt: 2025-02-20 15:18:56 -0500 (Thu, 20 Feb 2025) EndedAt: 2025-02-20 15:19:25 -0500 (Thu, 20 Feb 2025) EllapsedTime: 29.3 seconds RetCode: 0 Status: OK